BEGIN:VCALENDAR
VERSION:2.0
PRODID:-//Intand Corporation//Tandem//EN
METHOD:PUBLISH
BEGIN:VEVENT
DTSTAMP:20260425T142615Z
DTSTART:20260331T213000Z
DTEND:20260331T223000Z
TRANSP:TRANSPARENT
PRIORITY:0
SUMMARY:Varsity Tennis @ Trinity Valley
LOCATION:Trinity Valley School
DESCRIPTION:Groups:\nVarsity Tennis\n\nSchools:\nCistercian Preparatory Sc
 hool\n\nLocation:\nTrinity Valley School\n\n
URL;VALUE=URI:https://cistercianpreparatory.tandem.co/index.php?type=view&
 action=event&id=2602687
CREATED:20260219T163605Z
LAST-MODIFIED:20260219T163605Z
UID:event-2602687-cistercianpreparatory@intand.com
END:VEVENT
END:VCALENDAR
